BEGIN:VCALENDAR
VERSION:2.0
PRODID:-//Plone.org//NONSGML plone.app.event//EN
X-WR-TIMEZONE:Europe/Rome
BEGIN:VEVENT
SUMMARY:Caos. La giustizia internazionale sotto attacco
DTSTART;TZID=Europe/Rome;VALUE=DATE-TIME:20251114T153000
DTEND;TZID=Europe/Rome;VALUE=DATE-TIME:20251114T173000
DTSTAMP;VALUE=DATE-TIME:20260426T032118Z
UID:0a374c34708e4e06bc821eeb184f2f8c@dsg.unibo.it
CREATED;VALUE=DATE-TIME:20251027T152914Z
DESCRIPTION:Presentazione del libro
LAST-MODIFIED;VALUE=DATE-TIME:20251027T152951Z
URL:https://dsg.unibo.it/it/eventi/caos-la-giustizia-internazionale-sotto-
 attacco
END:VEVENT
BEGIN:VTIMEZONE
TZID:Europe/Rome
X-LIC-LOCATION:Europe/Rome
BEGIN:STANDARD
DTSTART;VALUE=DATE-TIME:20251026T020000
TZNAME:CET
TZOFFSETFROM:+0200
TZOFFSETTO:+0100
END:STANDARD
END:VTIMEZONE
END:VCALENDAR
