BEGIN:VCALENDAR
VERSION:2.0
PRODID:-//Plone.org//NONSGML plone.app.event//EN
X-WR-TIMEZONE:Europe/Rome
BEGIN:VEVENT
SUMMARY:Convegno "Intellectual property in the era of Artificial Intellige
 nce"
DTSTART;TZID=Europe/Rome;VALUE=DATE-TIME:20191122T140000
DTEND;TZID=Europe/Rome;VALUE=DATE-TIME:20191122T190000
DTSTAMP;VALUE=DATE-TIME:20260422T065635Z
UID:9465eac75a9d4cb7bd3836923454d339@dsg.unibo.it
CREATED;VALUE=DATE-TIME:20191029T100202Z
DESCRIPTION:Il convegno rientra nel progetto ISA TOPIC 2019.
LAST-MODIFIED;VALUE=DATE-TIME:20210410T093618Z
URL:https://dsg.unibo.it/it/eventi/convegno-intellectual-property-in-the-e
 ra-of-artificial-intelligence
END:VEVENT
BEGIN:VTIMEZONE
TZID:Europe/Rome
X-LIC-LOCATION:Europe/Rome
BEGIN:STANDARD
DTSTART;VALUE=DATE-TIME:20191027T020000
TZNAME:CET
TZOFFSETFROM:+0200
TZOFFSETTO:+0100
END:STANDARD
END:VTIMEZONE
END:VCALENDAR
