BEGIN:VCALENDAR
VERSION:2.0
PRODID:-//Plone.org//NONSGML plone.app.event//EN
X-WR-TIMEZONE:Europe/Rome
BEGIN:VEVENT
SUMMARY:Convegno "La prova digitale a processo"
DTSTART;TZID=Europe/Rome;VALUE=DATE-TIME:20191003T143000
DTEND;TZID=Europe/Rome;VALUE=DATE-TIME:20191003T183000
DTSTAMP;VALUE=DATE-TIME:20260422T013953Z
UID:093fa6f71a5643ceaa7dd19b1ee9b517@dsg.unibo.it
CREATED;VALUE=DATE-TIME:20190926T085740Z
DESCRIPTION:E' all'interno del progetto di ricerca europeo DEVICES.
LAST-MODIFIED;VALUE=DATE-TIME:20210409T212331Z
URL:https://dsg.unibo.it/it/eventi/evento-la-prova-digitale-a-processo
END:VEVENT
BEGIN:VTIMEZONE
TZID:Europe/Rome
X-LIC-LOCATION:Europe/Rome
BEGIN:DAYLIGHT
DTSTART;VALUE=DATE-TIME:20190331T030000
TZNAME:CEST
TZOFFSETFROM:+0100
TZOFFSETTO:+0200
END:DAYLIGHT
END:VTIMEZONE
END:VCALENDAR
