BEGIN:VCALENDAR
VERSION:2.0
PRODID:-//Plone.org//NONSGML plone.app.event//EN
X-WR-TIMEZONE:Europe/Rome
BEGIN:VEVENT
SUMMARY:Guest Lectures Series - Françoise Tulkens
DTSTART;TZID=Europe/Rome;VALUE=DATE-TIME:20240304T171500
DTEND;TZID=Europe/Rome;VALUE=DATE-TIME:20240305T130000
DTSTAMP;VALUE=DATE-TIME:20260425T174329Z
UID:407111d1e2084db59078eb6894812bb1@dsg.unibo.it
CREATED;VALUE=DATE-TIME:20240228T193600Z
DESCRIPTION:They will be introduced by Professor Michele Caianiello and Pr
 ofessor Emanuela Fronza. The lectures will be held in French\, but an Engl
 ish translation will be\nprovided.
LAST-MODIFIED;VALUE=DATE-TIME:20240228T195733Z
URL:https://dsg.unibo.it/it/eventi/guest-lectures-series-francoise-tulkens
END:VEVENT
BEGIN:VTIMEZONE
TZID:Europe/Rome
X-LIC-LOCATION:Europe/Rome
BEGIN:STANDARD
DTSTART;VALUE=DATE-TIME:20231029T020000
TZNAME:CET
TZOFFSETFROM:+0200
TZOFFSETTO:+0100
END:STANDARD
END:VTIMEZONE
END:VCALENDAR
