BEGIN:VCALENDAR
VERSION:2.0
PRODID:-//Plone.org//NONSGML plone.app.event//EN
X-WR-TIMEZONE:Europe/Rome
BEGIN:VEVENT
SUMMARY:Inaugurazione dell'Anno Accademico 2016/2017
DTSTART;VALUE=DATE:20161111
DTEND;VALUE=DATE:20161112
DTSTAMP;VALUE=DATE-TIME:20260422T065635Z
UID:70be5d77047440b8a783ac1de9f387b5@dsg.unibo.it
CREATED;VALUE=DATE-TIME:20161102T093336Z
DESCRIPTION:La cerimonia è organizzata da SP.I.S.A. e da C.RI.F.S.P.
LAST-MODIFIED;VALUE=DATE-TIME:20210409T095649Z
URL:https://dsg.unibo.it/it/eventi/inaugurazione-dell-anno-accademico-2016
 -2017
END:VEVENT
END:VCALENDAR
