BEGIN:VCALENDAR
VERSION:2.0
PRODID:-//Plone.org//NONSGML plone.app.event//EN
X-WR-TIMEZONE:Europe/Rome
BEGIN:VEVENT
SUMMARY:Giornata celebrativa "Leonardo da Vinci: Apoteosi della creativit
 à multidisciplinare"
DTSTART;TZID=Europe/Rome;VALUE=DATE-TIME:20190502T090000
DTEND;TZID=Europe/Rome;VALUE=DATE-TIME:20190502T130000
DTSTAMP;VALUE=DATE-TIME:20260422T064709Z
UID:6b3d8ce384f34dbb849ef9f129a0ba4c@dsg.unibo.it
CREATED;VALUE=DATE-TIME:20190411T123507Z
DESCRIPTION:La giornata celebrativa è aperta dai saluti del Rettore dell'
 Università di Bologna Francesco Ubertini.
LAST-MODIFIED;VALUE=DATE-TIME:20210409T205657Z
URL:https://dsg.unibo.it/it/eventi/leonardo-da-vinci-apoteosi-della-creati
 vita-multidisciplinare
END:VEVENT
BEGIN:VTIMEZONE
TZID:Europe/Rome
X-LIC-LOCATION:Europe/Rome
BEGIN:DAYLIGHT
DTSTART;VALUE=DATE-TIME:20190331T030000
TZNAME:CEST
TZOFFSETFROM:+0100
TZOFFSETTO:+0200
END:DAYLIGHT
END:VTIMEZONE
END:VCALENDAR
