BEGIN:VCALENDAR
VERSION:2.0
PRODID:-//Plone.org//NONSGML plone.app.event//EN
X-WR-TIMEZONE:Europe/Rome
BEGIN:VEVENT
SUMMARY:Master Lecture
DTSTART;TZID=Europe/Rome;VALUE=DATE-TIME:20220629T150000
DTEND;TZID=Europe/Rome;VALUE=DATE-TIME:20220629T163000
DTSTAMP;VALUE=DATE-TIME:20260419T150153Z
UID:c2f1c43ad6aa46d4be79f7382f981ec0@dsg.unibo.it
CREATED;VALUE=DATE-TIME:20220621T081005Z
DESCRIPTION:Bologna Business School – Master in HR & Organization / Depa
 rtment of Legal Studies - Master in Labour Law
LAST-MODIFIED;VALUE=DATE-TIME:20230310T143343Z
URL:https://dsg.unibo.it/it/eventi/master-lecture
END:VEVENT
BEGIN:VTIMEZONE
TZID:Europe/Rome
X-LIC-LOCATION:Europe/Rome
BEGIN:DAYLIGHT
DTSTART;VALUE=DATE-TIME:20220327T030000
TZNAME:CEST
TZOFFSETFROM:+0100
TZOFFSETTO:+0200
END:DAYLIGHT
END:VTIMEZONE
END:VCALENDAR
