BEGIN:VCALENDAR
VERSION:2.0
PRODID:-//Plone.org//NONSGML plone.app.event//EN
X-WR-TIMEZONE:Europe/Rome
BEGIN:VEVENT
SUMMARY:Presentazione del libro "Lettere d’ufficio" di Marco Bortolotti
DTSTART;TZID=Europe/Rome;VALUE=DATE-TIME:20240305T173000
DTEND;TZID=Europe/Rome;VALUE=DATE-TIME:20240305T190000
DTSTAMP;VALUE=DATE-TIME:20260426T031949Z
UID:67f59fc7d80e405e85178a6c7cd80910@dsg.unibo.it
CREATED;VALUE=DATE-TIME:20240304T133548Z
DESCRIPTION:Dedicato alla memoria di Luciano Vandelli\, amico e maestro di
  Marco Bortolotti. Nel libro vi è la presentazione di Paolo Pombeni\, con
  un saggio di Andrea Zanotti.
LAST-MODIFIED;VALUE=DATE-TIME:20240304T133915Z
URL:https://dsg.unibo.it/it/eventi/presentazione-del-libro-lettere-d-uffic
 io-di-marco-bortolotti
END:VEVENT
BEGIN:VTIMEZONE
TZID:Europe/Rome
X-LIC-LOCATION:Europe/Rome
BEGIN:STANDARD
DTSTART;VALUE=DATE-TIME:20231029T020000
TZNAME:CET
TZOFFSETFROM:+0200
TZOFFSETTO:+0100
END:STANDARD
END:VTIMEZONE
END:VCALENDAR
