BEGIN:VCALENDAR
VERSION:2.0
PRODID:-//Plone.org//NONSGML plone.app.event//EN
X-WR-TIMEZONE:Europe/Rome
BEGIN:VEVENT
SUMMARY:Presentazione del volume "Grammatica del costituzionalismo"
DTSTART;TZID=Europe/Rome;VALUE=DATE-TIME:20220225T160000
DTEND;TZID=Europe/Rome;VALUE=DATE-TIME:20220225T183000
DTSTAMP;VALUE=DATE-TIME:20260426T063849Z
UID:2180705d429642318d2f7acd27fb921c@dsg.unibo.it
CREATED;VALUE=DATE-TIME:20220209T093101Z
LAST-MODIFIED;VALUE=DATE-TIME:20220209T103553Z
URL:https://dsg.unibo.it/it/eventi/presentazione-del-volume-grammatica-del
 -costituzionalismo-1
END:VEVENT
BEGIN:VTIMEZONE
TZID:Europe/Rome
X-LIC-LOCATION:Europe/Rome
BEGIN:STANDARD
DTSTART;VALUE=DATE-TIME:20211031T020000
TZNAME:CET
TZOFFSETFROM:+0200
TZOFFSETTO:+0100
END:STANDARD
END:VTIMEZONE
END:VCALENDAR
