BEGIN:VCALENDAR
VERSION:2.0
PRODID:-//Plone.org//NONSGML plone.app.event//EN
X-WR-TIMEZONE:Europe/Rome
BEGIN:VEVENT
SUMMARY:Presentazione e discussione del libro “Vendetta pubblica. Il car
 cere in Italia”
DTSTART;TZID=Europe/Rome;VALUE=DATE-TIME:20201127T170000
DTEND;TZID=Europe/Rome;VALUE=DATE-TIME:20201127T190000
DTSTAMP;VALUE=DATE-TIME:20260422T090246Z
UID:b4dbe4753a4540e6b5efcfaeca200973@dsg.unibo.it
CREATED;VALUE=DATE-TIME:20201124T095919Z
DESCRIPTION:Speaker: Dott. Marcello Bortolato\, Presidente del Tribunale d
 i sorveglianza di Firenze.
LAST-MODIFIED;VALUE=DATE-TIME:20201124T111612Z
URL:https://dsg.unibo.it/it/eventi/presentazione-e-discussione-del-libro-v
 endetta-pubblica-il-carcere-in-italia
END:VEVENT
BEGIN:VTIMEZONE
TZID:Europe/Rome
X-LIC-LOCATION:Europe/Rome
BEGIN:STANDARD
DTSTART;VALUE=DATE-TIME:20201025T020000
TZNAME:CET
TZOFFSETFROM:+0200
TZOFFSETTO:+0100
END:STANDARD
END:VTIMEZONE
END:VCALENDAR
