BEGIN:VCALENDAR
VERSION:2.0
PRODID:-//Plone.org//NONSGML plone.app.event//EN
X-WR-TIMEZONE:Europe/Rome
BEGIN:VEVENT
SUMMARY:Recruiting day 2018
DTSTART;VALUE=DATE:20181106
DTEND;VALUE=DATE:20181108
DTSTAMP;VALUE=DATE-TIME:20260422T032317Z
UID:7252498af8ee49249a728ea6a6fbe748@dsg.unibo.it
CREATED;VALUE=DATE-TIME:20181026T075058Z
DESCRIPTION:L'evento è un'occasione di incontro tra i giovani laureandi/l
 aureati dei corsi di studio dell’Ateneo di Bologna con realtà imprendit
 oriali. Iscriviti online e carica il tuo CV.
LAST-MODIFIED;VALUE=DATE-TIME:20210409T172646Z
URL:https://dsg.unibo.it/it/eventi/recruiting-day-2018
END:VEVENT
END:VCALENDAR
