BEGIN:VCALENDAR
VERSION:2.0
PRODID:-//Plone.org//NONSGML plone.app.event//EN
X-WR-TIMEZONE:Europe/Rome
BEGIN:VEVENT
SUMMARY:Secondo incontro del CIRCOLaw del DSG (Miriana Lanotte)
DTSTART;TZID=Europe/Rome;VALUE=DATE-TIME:20210114T170000
DTEND;TZID=Europe/Rome;VALUE=DATE-TIME:20210114T183000
DTSTAMP;VALUE=DATE-TIME:20260422T032645Z
UID:4e34f5d7f880412cb10e875c5849f0dd@dsg.unibo.it
CREATED;VALUE=DATE-TIME:20210109T205308Z
DESCRIPTION:Si tratta di una iniziativa animata prevalentemente dai dottor
 andi ed assegnisti del DSG per favorire occasioni di riflessione scientifi
 ca in prospettiva interdisciplinare.
LAST-MODIFIED;VALUE=DATE-TIME:20210422T065643Z
URL:https://dsg.unibo.it/it/eventi/secondo-incontro-del-circolaw-del-dsg
END:VEVENT
BEGIN:VTIMEZONE
TZID:Europe/Rome
X-LIC-LOCATION:Europe/Rome
BEGIN:STANDARD
DTSTART;VALUE=DATE-TIME:20201025T020000
TZNAME:CET
TZOFFSETFROM:+0200
TZOFFSETTO:+0100
END:STANDARD
END:VTIMEZONE
END:VCALENDAR
