BEGIN:VCALENDAR
VERSION:2.0
PRODID:-//Plone.org//NONSGML plone.app.event//EN
X-WR-TIMEZONE:Europe/Rome
BEGIN:VEVENT
SUMMARY:Seminari di Diritto Parlamentare 2022
DTSTART;VALUE=DATE:20221021
DTEND;VALUE=DATE:20221105
DTSTAMP;VALUE=DATE-TIME:20260425T124706Z
UID:01079edea2ec4cb1bfbdaa9f8f4b0e91@dsg.unibo.it
CREATED;VALUE=DATE-TIME:20221012T184849Z
DESCRIPTION:I seminari sono curati dal Prof. Giupponi. Gli incontri si ter
 ranno presso l'Aula I delle “Aule Belmeloro” oppure online tramite la 
 piattaforma Teams.
LAST-MODIFIED;VALUE=DATE-TIME:20221026T122556Z
URL:https://dsg.unibo.it/it/eventi/seminari-di-diritto-parlamentare-2022
END:VEVENT
END:VCALENDAR
