BEGIN:VCALENDAR
VERSION:2.0
PRODID:-//Plone.org//NONSGML plone.app.event//EN
X-WR-TIMEZONE:Europe/Rome
BEGIN:VEVENT
SUMMARY:Convegno "Vivi Internet\, al sicuro"
DTSTART;VALUE=DATE:20161114
DTEND;VALUE=DATE:20161116
DTSTAMP;VALUE=DATE-TIME:20260422T064132Z
UID:8d440a7427564a7ea8195149713e1fb5@dsg.unibo.it
CREATED;VALUE=DATE-TIME:20161109T104733Z
DESCRIPTION:La partecipazione è gratuita e attribuisce 2 crediti formativ
 i a ciascun evento.
LAST-MODIFIED;VALUE=DATE-TIME:20210409T102034Z
URL:https://dsg.unibo.it/it/eventi/vivi-internet-al-sicuro
END:VEVENT
END:VCALENDAR
