BEGIN:VCALENDAR
VERSION:2.0
PRODID:-//Plone.org//NONSGML plone.app.event//EN
X-WR-TIMEZONE:Europe/Rome
BEGIN:VEVENT
SUMMARY:Web seminar "Il diritto dell'emergenza nella crisi da Coronavirus"
DTSTART;TZID=Europe/Rome;VALUE=DATE-TIME:20200408T143000
DTEND;TZID=Europe/Rome;VALUE=DATE-TIME:20200409T130000
DTSTAMP;VALUE=DATE-TIME:20260426T013501Z
UID:54f864e0dcf041a891c46409910bb75a@dsg.unibo.it
CREATED;VALUE=DATE-TIME:20200406T124258Z
DESCRIPTION:Ai lavori si potrà liberamente assistere tramite la piattafor
 ma ZOOM. È gradita l’iscrizione mediante manifestazione d'interesse all
 a mail massimiliano.baroni@unipr.ir
LAST-MODIFIED;VALUE=DATE-TIME:20200406T124741Z
URL:https://dsg.unibo.it/it/eventi/web-seminar-il-diritto-dell-emergenza-n
 ella-crisi-da-coronavirus-piattaforma-zoom
END:VEVENT
BEGIN:VTIMEZONE
TZID:Europe/Rome
X-LIC-LOCATION:Europe/Rome
BEGIN:DAYLIGHT
DTSTART;VALUE=DATE-TIME:20200329T030000
TZNAME:CEST
TZOFFSETFROM:+0100
TZOFFSETTO:+0200
END:DAYLIGHT
END:VTIMEZONE
END:VCALENDAR
