BEGIN:VCALENDAR
VERSION:2.0
PRODID:-//Plone.org//NONSGML plone.app.event//EN
X-WR-TIMEZONE:Europe/Rome
BEGIN:VEVENT
SUMMARY:Webinar "Formazione universitaria e post lauream. Percorsi profess
 ionali e lavorativi"
DTSTART;VALUE=DATE:20221111
DTEND;VALUE=DATE:20221126
DTSTAMP;VALUE=DATE-TIME:20260426T013501Z
UID:9ca602111ebc4e60aa65fb2c2a88da99@dsg.unibo.it
CREATED;VALUE=DATE-TIME:20221103T164743Z
DESCRIPTION:Giornate di orientamento per gli studenti dei corsi di Laurea 
 del Dipartimento di Scienze Giuridiche.
LAST-MODIFIED;VALUE=DATE-TIME:20221112T134409Z
URL:https://dsg.unibo.it/it/eventi/webinar-formazione-universitaria-e-post
 -lauream-percorsi-professionali-e-lavorativi
END:VEVENT
END:VCALENDAR
